BEGIN:VCALENDAR
VERSION:2.0
PRODID:-//Stafford County GOP - ECPv6.15.20//NONSGML v1.0//EN
CALSCALE:GREGORIAN
METHOD:PUBLISH
X-WR-CALNAME:Stafford County GOP
X-ORIGINAL-URL:https://staffordgop.com
X-WR-CALDESC:Events for Stafford County GOP
REFRESH-INTERVAL;VALUE=DURATION:PT1H
X-Robots-Tag:noindex
X-PUBLISHED-TTL:PT1H
BEGIN:VTIMEZONE
TZID:America/New_York
BEGIN:DAYLIGHT
TZOFFSETFROM:-0500
TZOFFSETTO:-0400
TZNAME:EDT
DTSTART:20220313T070000
END:DAYLIGHT
BEGIN:STANDARD
TZOFFSETFROM:-0400
TZOFFSETTO:-0500
TZNAME:EST
DTSTART:20221106T060000
END:STANDARD
BEGIN:DAYLIGHT
TZOFFSETFROM:-0500
TZOFFSETTO:-0400
TZNAME:EDT
DTSTART:20230312T070000
END:DAYLIGHT
BEGIN:STANDARD
TZOFFSETFROM:-0400
TZOFFSETTO:-0500
TZNAME:EST
DTSTART:20231105T060000
END:STANDARD
BEGIN:DAYLIGHT
TZOFFSETFROM:-0500
TZOFFSETTO:-0400
TZNAME:EDT
DTSTART:20240310T070000
END:DAYLIGHT
BEGIN:STANDARD
TZOFFSETFROM:-0400
TZOFFSETTO:-0500
TZNAME:EST
DTSTART:20241103T060000
END:STANDARD
END:VTIMEZONE
BEGIN:VEVENT
DTSTART;TZID=America/New_York:20230927T190000
DTEND;TZID=America/New_York:20230927T200000
DTSTAMP:20260420T042459
CREATED:20230926T004205Z
LAST-MODIFIED:20230926T004205Z
UID:9808-1695841200-1695844800@staffordgop.com
SUMMARY:27th Senate Debate
DESCRIPTION:Join us to support Tara Durant as she debates Joel Griffin and Monica Gary on Wednesday\, September 27th\, also at The University of Mary Washington\, George Washington Hall’s Dodd Auditorium. Audience members may submit questions for consideration before the debate begins. \nUMW’s Dodd Auditorium is located inside George Washington Hall\, between Brent and Dandridge streets. Or tune in virtually via Zoom at https://go.umw.edu/sept27debate.
URL:https://staffordgop.com/event/27th-senate-debate/
LOCATION:George Washington Hall’s Dodd Auditorium
CATEGORIES:Outside Events
END:VEVENT
END:VCALENDAR