BEGIN:VCALENDAR
VERSION:2.0
PRODID:-//Stafford County GOP - ECPv6.15.20//NONSGML v1.0//EN
CALSCALE:GREGORIAN
METHOD:PUBLISH
X-WR-CALNAME:Stafford County GOP
X-ORIGINAL-URL:https://staffordgop.com
X-WR-CALDESC:Events for Stafford County GOP
REFRESH-INTERVAL;VALUE=DURATION:PT1H
X-Robots-Tag:noindex
X-PUBLISHED-TTL:PT1H
BEGIN:VTIMEZONE
TZID:America/Halifax
BEGIN:DAYLIGHT
TZOFFSETFROM:-0400
TZOFFSETTO:-0300
TZNAME:ADT
DTSTART:20170312T060000
END:DAYLIGHT
BEGIN:STANDARD
TZOFFSETFROM:-0300
TZOFFSETTO:-0400
TZNAME:AST
DTSTART:20171105T050000
END:STANDARD
BEGIN:DAYLIGHT
TZOFFSETFROM:-0400
TZOFFSETTO:-0300
TZNAME:ADT
DTSTART:20180311T060000
END:DAYLIGHT
BEGIN:STANDARD
TZOFFSETFROM:-0300
TZOFFSETTO:-0400
TZNAME:AST
DTSTART:20181104T050000
END:STANDARD
BEGIN:DAYLIGHT
TZOFFSETFROM:-0400
TZOFFSETTO:-0300
TZNAME:ADT
DTSTART:20190310T060000
END:DAYLIGHT
BEGIN:STANDARD
TZOFFSETFROM:-0300
TZOFFSETTO:-0400
TZNAME:AST
DTSTART:20191103T050000
END:STANDARD
END:VTIMEZONE
BEGIN:VEVENT
DTSTART;TZID=America/Halifax:20181014T150000
DTEND;TZID=America/Halifax:20181014T170000
DTSTAMP:20260420T062034
CREATED:20181005T231357Z
LAST-MODIFIED:20181005T231411Z
UID:7051-1539529200-1539536400@staffordgop.com
SUMMARY:Delegate Bob Thomas Dockside Reception
DESCRIPTION:For questions or to RSVP\, please contact Jake Salmons at jake@bobthomasva.com or 540-693-0726 \nDownload the Invitation Details here
URL:https://staffordgop.com/event/delegate-bob-thomas-dockside-reception/
LOCATION:Hope Springs Marina\, 4 Hope Springs Lane\, Stafford\, VA\, 22554
CATEGORIES:Outside Events
ORGANIZER;CN="Friends of Bob Thomas":MAILTO:jake@bobthomasva.com
END:VEVENT
END:VCALENDAR