BEGIN:VCALENDAR
VERSION:2.0
PRODID:-//Stafford County GOP - ECPv6.15.20//NONSGML v1.0//EN
CALSCALE:GREGORIAN
METHOD:PUBLISH
X-WR-CALNAME:Stafford County GOP
X-ORIGINAL-URL:https://staffordgop.com
X-WR-CALDESC:Events for Stafford County GOP
REFRESH-INTERVAL;VALUE=DURATION:PT1H
X-Robots-Tag:noindex
X-PUBLISHED-TTL:PT1H
BEGIN:VTIMEZONE
TZID:America/Halifax
BEGIN:DAYLIGHT
TZOFFSETFROM:-0400
TZOFFSETTO:-0300
TZNAME:ADT
DTSTART:20200308T060000
END:DAYLIGHT
BEGIN:STANDARD
TZOFFSETFROM:-0300
TZOFFSETTO:-0400
TZNAME:AST
DTSTART:20201101T050000
END:STANDARD
BEGIN:DAYLIGHT
TZOFFSETFROM:-0400
TZOFFSETTO:-0300
TZNAME:ADT
DTSTART:20210314T060000
END:DAYLIGHT
BEGIN:STANDARD
TZOFFSETFROM:-0300
TZOFFSETTO:-0400
TZNAME:AST
DTSTART:20211107T050000
END:STANDARD
BEGIN:DAYLIGHT
TZOFFSETFROM:-0400
TZOFFSETTO:-0300
TZNAME:ADT
DTSTART:20220313T060000
END:DAYLIGHT
BEGIN:STANDARD
TZOFFSETFROM:-0300
TZOFFSETTO:-0400
TZNAME:AST
DTSTART:20221106T050000
END:STANDARD
END:VTIMEZONE
BEGIN:VEVENT
DTSTART;TZID=America/Halifax:20210826T160000
DTEND;TZID=America/Halifax:20210826T170000
DTSTAMP:20260420T043635
CREATED:20210825T193132Z
LAST-MODIFIED:20210825T193132Z
UID:7814-1629993600-1629997200@staffordgop.com
SUMMARY:Door Knocking with Alyssa Halstead and Darrell English
DESCRIPTION:Alyssa Halstead\, running for School Board\, and Darrell English\, running for Board of Supervisors Hartwood district \nMeeting at 4pm at the Walmart on 11 Village Parkway.  You may call/text Alyssa if you need help finding them (973) 722-6443. \nThis is a link to Alyssa’s recent interview with the Potomac Local. \nhttps://potomaclocal.com/2021/08/24/halstead-stafford-county-school-board-hartwood-district-seat-2021/
URL:https://staffordgop.com/event/door-knocking-with-alyssa-halstead-and-darrell-english/
CATEGORIES:Elections
END:VEVENT
END:VCALENDAR