BEGIN:VCALENDAR
VERSION:2.0
PRODID:-//Stafford County GOP - ECPv6.15.20//NONSGML v1.0//EN
CALSCALE:GREGORIAN
METHOD:PUBLISH
X-WR-CALNAME:Stafford County GOP
X-ORIGINAL-URL:https://staffordgop.com
X-WR-CALDESC:Events for Stafford County GOP
REFRESH-INTERVAL;VALUE=DURATION:PT1H
X-Robots-Tag:noindex
X-PUBLISHED-TTL:PT1H
BEGIN:VTIMEZONE
TZID:America/Halifax
BEGIN:DAYLIGHT
TZOFFSETFROM:-0400
TZOFFSETTO:-0300
TZNAME:ADT
DTSTART:20210314T060000
END:DAYLIGHT
BEGIN:STANDARD
TZOFFSETFROM:-0300
TZOFFSETTO:-0400
TZNAME:AST
DTSTART:20211107T050000
END:STANDARD
BEGIN:DAYLIGHT
TZOFFSETFROM:-0400
TZOFFSETTO:-0300
TZNAME:ADT
DTSTART:20220313T060000
END:DAYLIGHT
BEGIN:STANDARD
TZOFFSETFROM:-0300
TZOFFSETTO:-0400
TZNAME:AST
DTSTART:20221106T050000
END:STANDARD
BEGIN:DAYLIGHT
TZOFFSETFROM:-0400
TZOFFSETTO:-0300
TZNAME:ADT
DTSTART:20230312T060000
END:DAYLIGHT
BEGIN:STANDARD
TZOFFSETFROM:-0300
TZOFFSETTO:-0400
TZNAME:AST
DTSTART:20231105T050000
END:STANDARD
END:VTIMEZONE
BEGIN:VEVENT
DTSTART;TZID=America/Halifax:20220729T090000
DTEND;TZID=America/Halifax:20220807T210000
DTSTAMP:20260422T164034
CREATED:20220707T182239Z
LAST-MODIFIED:20220707T182257Z
UID:8488-1659085200-1659906000@staffordgop.com
SUMMARY:Fredericksburg Agricultural Fair
DESCRIPTION:The Fredericksburg Fair is 283!  \nFounded in 1738\, Fredericksburg Agricultural Fair is the oldest fair in the United States. Join us in celebrating traditional fair events\, contests\, entertainment\, food and fun for the whole family! Located at the Fredericksburg Fairgrounds\, 2400 Airport Avenue\, Fredericksburg\, VA 22401.
URL:https://staffordgop.com/event/fredericksburg-agricultural-fair/
LOCATION:Fredericksburg Fairgrounds\, 2400 Airport Ave\, Fredericksburg\, VA\, 22401\, United States
END:VEVENT
END:VCALENDAR