BEGIN:VCALENDAR
VERSION:2.0
PRODID:-//Stafford County GOP - ECPv6.15.20//NONSGML v1.0//EN
CALSCALE:GREGORIAN
METHOD:PUBLISH
X-WR-CALNAME:Stafford County GOP
X-ORIGINAL-URL:https://staffordgop.com
X-WR-CALDESC:Events for Stafford County GOP
REFRESH-INTERVAL;VALUE=DURATION:PT1H
X-Robots-Tag:noindex
X-PUBLISHED-TTL:PT1H
BEGIN:VTIMEZONE
TZID:America/Halifax
BEGIN:DAYLIGHT
TZOFFSETFROM:-0400
TZOFFSETTO:-0300
TZNAME:ADT
DTSTART:20210314T060000
END:DAYLIGHT
BEGIN:STANDARD
TZOFFSETFROM:-0300
TZOFFSETTO:-0400
TZNAME:AST
DTSTART:20211107T050000
END:STANDARD
BEGIN:DAYLIGHT
TZOFFSETFROM:-0400
TZOFFSETTO:-0300
TZNAME:ADT
DTSTART:20220313T060000
END:DAYLIGHT
BEGIN:STANDARD
TZOFFSETFROM:-0300
TZOFFSETTO:-0400
TZNAME:AST
DTSTART:20221106T050000
END:STANDARD
BEGIN:DAYLIGHT
TZOFFSETFROM:-0400
TZOFFSETTO:-0300
TZNAME:ADT
DTSTART:20230312T060000
END:DAYLIGHT
BEGIN:STANDARD
TZOFFSETFROM:-0300
TZOFFSETTO:-0400
TZNAME:AST
DTSTART:20231105T050000
END:STANDARD
END:VTIMEZONE
BEGIN:VEVENT
DTSTART;TZID=America/Halifax:20220523T190000
DTEND;TZID=America/Halifax:20220523T200000
DTSTAMP:20260420T225211
CREATED:20220520T212332Z
LAST-MODIFIED:20220520T212332Z
UID:8303-1653332400-1653336000@staffordgop.com
SUMMARY:Garrisonville District Magisterial Meeting
DESCRIPTION:In April I was asked to serve again as the Garrisonville Magisterial Chair for the upcoming Primary and the General election in November. \nThis is not new\, since I was the magisterial chair a couple of years ago\, however\, we are doing something new in that we are going to try to meet as volunteers more often so we are better prepared for the primary and the general election. \nPlease join us and bring your friends.  I promise we won’t be more than an hour. \nIf you would like to stay involved\, but are unable to meet at that time\, please let me know. \nThanks in advance for your help and participation. \nGod Bless\, \nBart Randall
URL:https://staffordgop.com/event/garrisonville-district-magisterial-meeting/
LOCATION:Hampton Oaks Community Center\, 80 Northampton Blvd\, Stafford\, VA\, 22554\, United States
END:VEVENT
END:VCALENDAR