BEGIN:VCALENDAR
VERSION:2.0
PRODID:-//Stafford County GOP - ECPv6.15.20//NONSGML v1.0//EN
CALSCALE:GREGORIAN
METHOD:PUBLISH
X-WR-CALNAME:Stafford County GOP
X-ORIGINAL-URL:https://staffordgop.com
X-WR-CALDESC:Events for Stafford County GOP
REFRESH-INTERVAL;VALUE=DURATION:PT1H
X-Robots-Tag:noindex
X-PUBLISHED-TTL:PT1H
BEGIN:VTIMEZONE
TZID:America/Halifax
BEGIN:DAYLIGHT
TZOFFSETFROM:-0400
TZOFFSETTO:-0300
TZNAME:ADT
DTSTART:20210314T060000
END:DAYLIGHT
BEGIN:STANDARD
TZOFFSETFROM:-0300
TZOFFSETTO:-0400
TZNAME:AST
DTSTART:20211107T050000
END:STANDARD
BEGIN:DAYLIGHT
TZOFFSETFROM:-0400
TZOFFSETTO:-0300
TZNAME:ADT
DTSTART:20220313T060000
END:DAYLIGHT
BEGIN:STANDARD
TZOFFSETFROM:-0300
TZOFFSETTO:-0400
TZNAME:AST
DTSTART:20221106T050000
END:STANDARD
BEGIN:DAYLIGHT
TZOFFSETFROM:-0400
TZOFFSETTO:-0300
TZNAME:ADT
DTSTART:20230312T060000
END:DAYLIGHT
BEGIN:STANDARD
TZOFFSETFROM:-0300
TZOFFSETTO:-0400
TZNAME:AST
DTSTART:20231105T050000
END:STANDARD
END:VTIMEZONE
BEGIN:VEVENT
DTSTART;TZID=America/Halifax:20221022T120000
DTEND;TZID=America/Halifax:20221022T140000
DTSTAMP:20260424T050128
CREATED:20221014T171407Z
LAST-MODIFIED:20221018T095633Z
UID:8810-1666440000-1666447200@staffordgop.com
SUMMARY:Get Out The Vote Rally with Yesli Vega\, Lt. Governor Winsome Sears\, and Tulsi Gabbard
DESCRIPTION:  \n\nCLICK HERE to register.  Admission is FREE.
URL:https://staffordgop.com/event/get-out-the-vote-rally-with-winsome-sears-south-stafford/
LOCATION:South Stafford\, 56 Wells Lane\, Fredericksburg\, VA\, 22405
END:VEVENT
END:VCALENDAR