BEGIN:VCALENDAR
VERSION:2.0
PRODID:-//Stafford County GOP - ECPv6.15.20//NONSGML v1.0//EN
CALSCALE:GREGORIAN
METHOD:PUBLISH
X-WR-CALNAME:Stafford County GOP
X-ORIGINAL-URL:https://staffordgop.com
X-WR-CALDESC:Events for Stafford County GOP
REFRESH-INTERVAL;VALUE=DURATION:PT1H
X-Robots-Tag:noindex
X-PUBLISHED-TTL:PT1H
BEGIN:VTIMEZONE
TZID:America/Halifax
BEGIN:DAYLIGHT
TZOFFSETFROM:-0400
TZOFFSETTO:-0300
TZNAME:ADT
DTSTART:20200308T060000
END:DAYLIGHT
BEGIN:STANDARD
TZOFFSETFROM:-0300
TZOFFSETTO:-0400
TZNAME:AST
DTSTART:20201101T050000
END:STANDARD
BEGIN:DAYLIGHT
TZOFFSETFROM:-0400
TZOFFSETTO:-0300
TZNAME:ADT
DTSTART:20210314T060000
END:DAYLIGHT
BEGIN:STANDARD
TZOFFSETFROM:-0300
TZOFFSETTO:-0400
TZNAME:AST
DTSTART:20211107T050000
END:STANDARD
BEGIN:DAYLIGHT
TZOFFSETFROM:-0400
TZOFFSETTO:-0300
TZNAME:ADT
DTSTART:20220313T060000
END:DAYLIGHT
BEGIN:STANDARD
TZOFFSETFROM:-0300
TZOFFSETTO:-0400
TZNAME:AST
DTSTART:20221106T050000
END:STANDARD
END:VTIMEZONE
BEGIN:VEVENT
DTSTART;TZID=America/Halifax:20211112T113000
DTEND;TZID=America/Halifax:20211112T113000
DTSTAMP:20260420T062349
CREATED:20211111T160938Z
LAST-MODIFIED:20211111T160938Z
UID:7975-1636716600-1636716600@staffordgop.com
SUMMARY:Governor-Elect Glenn Youngkin's Fredericksburg Area Thank You Lunch
DESCRIPTION:Join Glenn Youngkin at Basilico New York Deli\, 7013 Harrison Road\, Fredericksburg\, VA\, on Friday\, November 12 at 11:30 am.
URL:https://staffordgop.com/event/governor-elect-glenn-youngkins-fredericksburg-area-thank-you-lunch/
LOCATION:Basilico New York Deli\, 7013 Harrison Road\, Fredericksburg\, VA\, United States
CATEGORIES:Outside Events
END:VEVENT
END:VCALENDAR