BEGIN:VCALENDAR
VERSION:2.0
PRODID:-//Stafford County GOP - ECPv6.15.20//NONSGML v1.0//EN
CALSCALE:GREGORIAN
METHOD:PUBLISH
X-WR-CALNAME:Stafford County GOP
X-ORIGINAL-URL:https://staffordgop.com
X-WR-CALDESC:Events for Stafford County GOP
REFRESH-INTERVAL;VALUE=DURATION:PT1H
X-Robots-Tag:noindex
X-PUBLISHED-TTL:PT1H
BEGIN:VTIMEZONE
TZID:America/Halifax
BEGIN:DAYLIGHT
TZOFFSETFROM:-0400
TZOFFSETTO:-0300
TZNAME:ADT
DTSTART:20180311T060000
END:DAYLIGHT
BEGIN:STANDARD
TZOFFSETFROM:-0300
TZOFFSETTO:-0400
TZNAME:AST
DTSTART:20181104T050000
END:STANDARD
BEGIN:DAYLIGHT
TZOFFSETFROM:-0400
TZOFFSETTO:-0300
TZNAME:ADT
DTSTART:20190310T060000
END:DAYLIGHT
BEGIN:STANDARD
TZOFFSETFROM:-0300
TZOFFSETTO:-0400
TZNAME:AST
DTSTART:20191103T050000
END:STANDARD
BEGIN:DAYLIGHT
TZOFFSETFROM:-0400
TZOFFSETTO:-0300
TZNAME:ADT
DTSTART:20200308T060000
END:DAYLIGHT
BEGIN:STANDARD
TZOFFSETFROM:-0300
TZOFFSETTO:-0400
TZNAME:AST
DTSTART:20201101T050000
END:STANDARD
END:VTIMEZONE
BEGIN:VEVENT
DTSTART;TZID=America/Halifax:20190819T183000
DTEND;TZID=America/Halifax:20190819T203000
DTSTAMP:20260420T104744
CREATED:20190807T213642Z
LAST-MODIFIED:20190807T213642Z
UID:7244-1566239400-1566246600@staffordgop.com
SUMMARY:Monthly Committee Meeting - Note New Date
DESCRIPTION:The SCRC normally meets the 2nd Monday of the month.  Please note the August 2019 meeting is the third Monday of the month. \nThe agenda will be posted 7 days in advance of the meeting. \n6:30pm – Social Time \n7:00pm – Meeting
URL:https://staffordgop.com/event/monthly-committee-meeting-aug2019/
LOCATION:Stafford County Government Center\, 1300 Courthouse Road\, Stafford\, VA\, United States
CATEGORIES:Monthly Meetings
END:VEVENT
END:VCALENDAR