BEGIN:VCALENDAR
VERSION:2.0
PRODID:-//Stafford County GOP - ECPv6.15.20//NONSGML v1.0//EN
CALSCALE:GREGORIAN
METHOD:PUBLISH
X-WR-CALNAME:Stafford County GOP
X-ORIGINAL-URL:https://staffordgop.com
X-WR-CALDESC:Events for Stafford County GOP
REFRESH-INTERVAL;VALUE=DURATION:PT1H
X-Robots-Tag:noindex
X-PUBLISHED-TTL:PT1H
BEGIN:VTIMEZONE
TZID:America/Halifax
BEGIN:DAYLIGHT
TZOFFSETFROM:-0400
TZOFFSETTO:-0300
TZNAME:ADT
DTSTART:20210314T060000
END:DAYLIGHT
BEGIN:STANDARD
TZOFFSETFROM:-0300
TZOFFSETTO:-0400
TZNAME:AST
DTSTART:20211107T050000
END:STANDARD
BEGIN:DAYLIGHT
TZOFFSETFROM:-0400
TZOFFSETTO:-0300
TZNAME:ADT
DTSTART:20220313T060000
END:DAYLIGHT
BEGIN:STANDARD
TZOFFSETFROM:-0300
TZOFFSETTO:-0400
TZNAME:AST
DTSTART:20221106T050000
END:STANDARD
BEGIN:DAYLIGHT
TZOFFSETFROM:-0400
TZOFFSETTO:-0300
TZNAME:ADT
DTSTART:20230312T060000
END:DAYLIGHT
BEGIN:STANDARD
TZOFFSETFROM:-0300
TZOFFSETTO:-0400
TZNAME:AST
DTSTART:20231105T050000
END:STANDARD
END:VTIMEZONE
BEGIN:VEVENT
DTSTART;TZID=America/Halifax:20220615T163000
DTEND;TZID=America/Halifax:20220615T183000
DTSTAMP:20260421T210024
CREATED:20220615T143112Z
LAST-MODIFIED:20220615T143112Z
UID:8412-1655310600-1655317800@staffordgop.com
SUMMARY:Porter Library Board of Trustees Quarterly Meeting
DESCRIPTION:Public comment period:: Speak about requesting an audit of sexual content books\, e materials and video’s being checked out to children that are not of age.
URL:https://staffordgop.com/event/porter-library-board-of-trustees-quarterly-meeting/
LOCATION:Porter Public Library\, 2001 Parkway Boulevard\, Stafford\, VA\, 22554
END:VEVENT
END:VCALENDAR