BEGIN:VCALENDAR
VERSION:2.0
PRODID:-//Stafford County GOP - ECPv6.15.20//NONSGML v1.0//EN
CALSCALE:GREGORIAN
METHOD:PUBLISH
X-WR-CALNAME:Stafford County GOP
X-ORIGINAL-URL:https://staffordgop.com
X-WR-CALDESC:Events for Stafford County GOP
REFRESH-INTERVAL;VALUE=DURATION:PT1H
X-Robots-Tag:noindex
X-PUBLISHED-TTL:PT1H
BEGIN:VTIMEZONE
TZID:America/Halifax
BEGIN:DAYLIGHT
TZOFFSETFROM:-0400
TZOFFSETTO:-0300
TZNAME:ADT
DTSTART:20170312T060000
END:DAYLIGHT
BEGIN:STANDARD
TZOFFSETFROM:-0300
TZOFFSETTO:-0400
TZNAME:AST
DTSTART:20171105T050000
END:STANDARD
BEGIN:DAYLIGHT
TZOFFSETFROM:-0400
TZOFFSETTO:-0300
TZNAME:ADT
DTSTART:20180311T060000
END:DAYLIGHT
BEGIN:STANDARD
TZOFFSETFROM:-0300
TZOFFSETTO:-0400
TZNAME:AST
DTSTART:20181104T050000
END:STANDARD
BEGIN:DAYLIGHT
TZOFFSETFROM:-0400
TZOFFSETTO:-0300
TZNAME:ADT
DTSTART:20190310T060000
END:DAYLIGHT
BEGIN:STANDARD
TZOFFSETFROM:-0300
TZOFFSETTO:-0400
TZNAME:AST
DTSTART:20191103T050000
END:STANDARD
END:VTIMEZONE
BEGIN:VEVENT
DTSTART;TZID=America/Halifax:20180612T060000
DTEND;TZID=America/Halifax:20180612T190000
DTSTAMP:20260420T044239
CREATED:20180527T192932Z
LAST-MODIFIED:20180527T223201Z
UID:6819-1528783200-1528830000@staffordgop.com
SUMMARY:Primary Election
DESCRIPTION:The Stafford County Republican Primary ballots include the following seat: \nUnited States Senate – Statewide
URL:https://staffordgop.com/event/primary-election/
CATEGORIES:Elections
END:VEVENT
END:VCALENDAR