BEGIN:VCALENDAR
VERSION:2.0
PRODID:-//Stafford County GOP - ECPv6.15.20//NONSGML v1.0//EN
CALSCALE:GREGORIAN
METHOD:PUBLISH
X-WR-CALNAME:Stafford County GOP
X-ORIGINAL-URL:https://staffordgop.com
X-WR-CALDESC:Events for Stafford County GOP
REFRESH-INTERVAL;VALUE=DURATION:PT1H
X-Robots-Tag:noindex
X-PUBLISHED-TTL:PT1H
BEGIN:VTIMEZONE
TZID:America/Halifax
BEGIN:DAYLIGHT
TZOFFSETFROM:-0400
TZOFFSETTO:-0300
TZNAME:ADT
DTSTART:20180311T060000
END:DAYLIGHT
BEGIN:STANDARD
TZOFFSETFROM:-0300
TZOFFSETTO:-0400
TZNAME:AST
DTSTART:20181104T050000
END:STANDARD
BEGIN:DAYLIGHT
TZOFFSETFROM:-0400
TZOFFSETTO:-0300
TZNAME:ADT
DTSTART:20190310T060000
END:DAYLIGHT
BEGIN:STANDARD
TZOFFSETFROM:-0300
TZOFFSETTO:-0400
TZNAME:AST
DTSTART:20191103T050000
END:STANDARD
BEGIN:DAYLIGHT
TZOFFSETFROM:-0400
TZOFFSETTO:-0300
TZNAME:ADT
DTSTART:20200308T060000
END:DAYLIGHT
BEGIN:STANDARD
TZOFFSETFROM:-0300
TZOFFSETTO:-0400
TZNAME:AST
DTSTART:20201101T050000
END:STANDARD
END:VTIMEZONE
BEGIN:VEVENT
DTSTART;TZID=America/Halifax:20190628T080000
DTEND;TZID=America/Halifax:20190628T170000
DTSTAMP:20260420T074347
CREATED:20190513T210520Z
LAST-MODIFIED:20190513T210539Z
UID:7190-1561708800-1561741200@staffordgop.com
SUMMARY:Re-Elect Decatur for Sheriff Golf Outing
DESCRIPTION:David Decatur\, Stafford County Sheriff will be holding his Re-Elect Decatur for Sheriff Golf Outing\, located at the Augustine Golf Club\, 76 Monument Dr.\, Stafford\, VA. Please contact Sheriff Decatur for any additional information.
URL:https://staffordgop.com/event/re-elect-decatur-for-sheriff-golf-outing/
LOCATION:Augustine Golf Club\, 76 Monument Dr\, Stafford\, VA\, 22554\, United States
CATEGORIES:Outside Events
END:VEVENT
END:VCALENDAR