BEGIN:VCALENDAR
VERSION:2.0
PRODID:-//Stafford County GOP - ECPv6.15.20//NONSGML v1.0//EN
CALSCALE:GREGORIAN
METHOD:PUBLISH
X-WR-CALNAME:Stafford County GOP
X-ORIGINAL-URL:https://staffordgop.com
X-WR-CALDESC:Events for Stafford County GOP
REFRESH-INTERVAL;VALUE=DURATION:PT1H
X-Robots-Tag:noindex
X-PUBLISHED-TTL:PT1H
BEGIN:VTIMEZONE
TZID:America/Halifax
BEGIN:DAYLIGHT
TZOFFSETFROM:-0400
TZOFFSETTO:-0300
TZNAME:ADT
DTSTART:20210314T060000
END:DAYLIGHT
BEGIN:STANDARD
TZOFFSETFROM:-0300
TZOFFSETTO:-0400
TZNAME:AST
DTSTART:20211107T050000
END:STANDARD
BEGIN:DAYLIGHT
TZOFFSETFROM:-0400
TZOFFSETTO:-0300
TZNAME:ADT
DTSTART:20220313T060000
END:DAYLIGHT
BEGIN:STANDARD
TZOFFSETFROM:-0300
TZOFFSETTO:-0400
TZNAME:AST
DTSTART:20221106T050000
END:STANDARD
BEGIN:DAYLIGHT
TZOFFSETFROM:-0400
TZOFFSETTO:-0300
TZNAME:ADT
DTSTART:20230312T060000
END:DAYLIGHT
BEGIN:STANDARD
TZOFFSETFROM:-0300
TZOFFSETTO:-0400
TZNAME:AST
DTSTART:20231105T050000
END:STANDARD
END:VTIMEZONE
BEGIN:VEVENT
DTSTART;TZID=America/Halifax:20220915T183000
DTEND;TZID=America/Halifax:20220915T190000
DTSTAMP:20260423T080017
CREATED:20220827T163721Z
LAST-MODIFIED:20220827T164641Z
UID:8625-1663266600-1663268400@staffordgop.com
SUMMARY:Reception for Yesli Vega with First Lady Suzanne S. Youngkin
DESCRIPTION:CLICK HERE if you would like to RSVP and contribute online. \n 
URL:https://staffordgop.com/event/reception-for-yesli-vega-with-first-lady-suzanne-s-youngkin/
LOCATION:Fredericksburg Country Club\, 1031 Tidewater Trail\, Fredericksburg\, VA\, 22408
ORGANIZER;CN="Gretchen Moss":MAILTO:gretchen@gretchenmoss.com
END:VEVENT
END:VCALENDAR