BEGIN:VCALENDAR
VERSION:2.0
PRODID:-//Stafford County GOP - ECPv6.15.20//NONSGML v1.0//EN
CALSCALE:GREGORIAN
METHOD:PUBLISH
X-WR-CALNAME:Stafford County GOP
X-ORIGINAL-URL:https://staffordgop.com
X-WR-CALDESC:Events for Stafford County GOP
REFRESH-INTERVAL;VALUE=DURATION:PT1H
X-Robots-Tag:noindex
X-PUBLISHED-TTL:PT1H
BEGIN:VTIMEZONE
TZID:America/Halifax
BEGIN:DAYLIGHT
TZOFFSETFROM:-0400
TZOFFSETTO:-0300
TZNAME:ADT
DTSTART:20210314T060000
END:DAYLIGHT
BEGIN:STANDARD
TZOFFSETFROM:-0300
TZOFFSETTO:-0400
TZNAME:AST
DTSTART:20211107T050000
END:STANDARD
BEGIN:DAYLIGHT
TZOFFSETFROM:-0400
TZOFFSETTO:-0300
TZNAME:ADT
DTSTART:20220313T060000
END:DAYLIGHT
BEGIN:STANDARD
TZOFFSETFROM:-0300
TZOFFSETTO:-0400
TZNAME:AST
DTSTART:20221106T050000
END:STANDARD
BEGIN:DAYLIGHT
TZOFFSETFROM:-0400
TZOFFSETTO:-0300
TZNAME:ADT
DTSTART:20230312T060000
END:DAYLIGHT
BEGIN:STANDARD
TZOFFSETFROM:-0300
TZOFFSETTO:-0400
TZNAME:AST
DTSTART:20231105T050000
END:STANDARD
END:VTIMEZONE
BEGIN:VEVENT
DTSTART;TZID=America/Halifax:20220518T190000
DTEND;TZID=America/Halifax:20220518T220000
DTSTAMP:20260420T144211
CREATED:20220510T201940Z
LAST-MODIFIED:20220510T201940Z
UID:8248-1652900400-1652911200@staffordgop.com
SUMMARY:RPV Candidate Forum
DESCRIPTION:This is the last forum (candidate debates) before the June 21st Primaries. \nMay 18th \n7pm-10pm \nDorothy Hart Community Center \n408 Canal St\, Fredericksburg VA\, 22401
URL:https://staffordgop.com/event/rpv-candidate-forum/
LOCATION:Dorothy Hart Community Center\, 408 Canal St\, Fredericksburg\, VA\, 22401\, United States
CATEGORIES:Outside Events
END:VEVENT
END:VCALENDAR