BEGIN:VCALENDAR
VERSION:2.0
PRODID:-//Stafford County GOP - ECPv6.15.20//NONSGML v1.0//EN
CALSCALE:GREGORIAN
METHOD:PUBLISH
X-WR-CALNAME:Stafford County GOP
X-ORIGINAL-URL:https://staffordgop.com
X-WR-CALDESC:Events for Stafford County GOP
REFRESH-INTERVAL;VALUE=DURATION:PT1H
X-Robots-Tag:noindex
X-PUBLISHED-TTL:PT1H
BEGIN:VTIMEZONE
TZID:America/Halifax
BEGIN:DAYLIGHT
TZOFFSETFROM:-0400
TZOFFSETTO:-0300
TZNAME:ADT
DTSTART:20210314T060000
END:DAYLIGHT
BEGIN:STANDARD
TZOFFSETFROM:-0300
TZOFFSETTO:-0400
TZNAME:AST
DTSTART:20211107T050000
END:STANDARD
BEGIN:DAYLIGHT
TZOFFSETFROM:-0400
TZOFFSETTO:-0300
TZNAME:ADT
DTSTART:20220313T060000
END:DAYLIGHT
BEGIN:STANDARD
TZOFFSETFROM:-0300
TZOFFSETTO:-0400
TZNAME:AST
DTSTART:20221106T050000
END:STANDARD
BEGIN:DAYLIGHT
TZOFFSETFROM:-0400
TZOFFSETTO:-0300
TZNAME:ADT
DTSTART:20230312T060000
END:DAYLIGHT
BEGIN:STANDARD
TZOFFSETFROM:-0300
TZOFFSETTO:-0400
TZNAME:AST
DTSTART:20231105T050000
END:STANDARD
END:VTIMEZONE
BEGIN:VEVENT
DTSTART;TZID=America/Halifax:20220516T173000
DTEND;TZID=America/Halifax:20220516T193000
DTSTAMP:20260420T112337
CREATED:20220512T194222Z
LAST-MODIFIED:20220512T194222Z
UID:8264-1652722200-1652729400@staffordgop.com
SUMMARY:School Board Open Town Hall
DESCRIPTION:On behalf of your School Board representative\, Ms. Alyssa Halstead\, you are invited to attend an Open Town Hall regarding your district on Monday\, May 16\, at 5:30 p.m. at Hartwood Elementary School. \nThis is an opportunity for you to connect directly with your School Board representative in an open dialogue.
URL:https://staffordgop.com/event/school-board-open-town-hall/
LOCATION:Hartwood Elementary School\, 14 Shackelford Well Road\, Fredericksburg\, VA\, 22406
END:VEVENT
END:VCALENDAR