BEGIN:VCALENDAR
VERSION:2.0
PRODID:-//Stafford County GOP - ECPv6.15.20//NONSGML v1.0//EN
CALSCALE:GREGORIAN
METHOD:PUBLISH
X-WR-CALNAME:Stafford County GOP
X-ORIGINAL-URL:https://staffordgop.com
X-WR-CALDESC:Events for Stafford County GOP
REFRESH-INTERVAL;VALUE=DURATION:PT1H
X-Robots-Tag:noindex
X-PUBLISHED-TTL:PT1H
BEGIN:VTIMEZONE
TZID:America/Halifax
BEGIN:DAYLIGHT
TZOFFSETFROM:-0400
TZOFFSETTO:-0300
TZNAME:ADT
DTSTART:20210314T060000
END:DAYLIGHT
BEGIN:STANDARD
TZOFFSETFROM:-0300
TZOFFSETTO:-0400
TZNAME:AST
DTSTART:20211107T050000
END:STANDARD
BEGIN:DAYLIGHT
TZOFFSETFROM:-0400
TZOFFSETTO:-0300
TZNAME:ADT
DTSTART:20220313T060000
END:DAYLIGHT
BEGIN:STANDARD
TZOFFSETFROM:-0300
TZOFFSETTO:-0400
TZNAME:AST
DTSTART:20221106T050000
END:STANDARD
BEGIN:DAYLIGHT
TZOFFSETFROM:-0400
TZOFFSETTO:-0300
TZNAME:ADT
DTSTART:20230312T060000
END:DAYLIGHT
BEGIN:STANDARD
TZOFFSETFROM:-0300
TZOFFSETTO:-0400
TZNAME:AST
DTSTART:20231105T050000
END:STANDARD
END:VTIMEZONE
BEGIN:VEVENT
DTSTART;TZID=America/Halifax:20220725T183000
DTEND;TZID=America/Halifax:20220725T193000
DTSTAMP:20260422T150736
CREATED:20220721T201811Z
LAST-MODIFIED:20220721T202317Z
UID:8545-1658773800-1658777400@staffordgop.com
SUMMARY:SCRC Speaker Series - Sheriff Decatur
DESCRIPTION:The SCRC speaker series will host elected officials\, community leaders\, and others\, the 4th Monday each month.  This month\, Sheriff David Decatur. \nPlease RSVP to Matt Blackledge at matthew.blackledge37@gmail.com or for more information.
URL:https://staffordgop.com/event/scrc-speaker-series-sheriff-decatur/
LOCATION:Porter Public Library\, 2001 Parkway Boulevard\, Stafford\, VA\, 22554
END:VEVENT
END:VCALENDAR