BEGIN:VCALENDAR
VERSION:2.0
PRODID:-//Stafford County GOP - ECPv6.15.20//NONSGML v1.0//EN
CALSCALE:GREGORIAN
METHOD:PUBLISH
X-WR-CALNAME:Stafford County GOP
X-ORIGINAL-URL:https://staffordgop.com
X-WR-CALDESC:Events for Stafford County GOP
REFRESH-INTERVAL;VALUE=DURATION:PT1H
X-Robots-Tag:noindex
X-PUBLISHED-TTL:PT1H
BEGIN:VTIMEZONE
TZID:America/Halifax
BEGIN:DAYLIGHT
TZOFFSETFROM:-0400
TZOFFSETTO:-0300
TZNAME:ADT
DTSTART:20180311T060000
END:DAYLIGHT
BEGIN:STANDARD
TZOFFSETFROM:-0300
TZOFFSETTO:-0400
TZNAME:AST
DTSTART:20181104T050000
END:STANDARD
BEGIN:DAYLIGHT
TZOFFSETFROM:-0400
TZOFFSETTO:-0300
TZNAME:ADT
DTSTART:20190310T060000
END:DAYLIGHT
BEGIN:STANDARD
TZOFFSETFROM:-0300
TZOFFSETTO:-0400
TZNAME:AST
DTSTART:20191103T050000
END:STANDARD
BEGIN:DAYLIGHT
TZOFFSETFROM:-0400
TZOFFSETTO:-0300
TZNAME:ADT
DTSTART:20200308T060000
END:DAYLIGHT
BEGIN:STANDARD
TZOFFSETFROM:-0300
TZOFFSETTO:-0400
TZNAME:AST
DTSTART:20201101T050000
END:STANDARD
END:VTIMEZONE
BEGIN:VEVENT
DTSTART;TZID=America/Halifax:20190619T180000
DTEND;TZID=America/Halifax:20190619T193000
DTSTAMP:20260420T060315
CREATED:20190614T155746Z
LAST-MODIFIED:20190614T155746Z
UID:7214-1560967200-1560972600@staffordgop.com
SUMMARY:Senator Richard Stuart's Campaign Kickoff
DESCRIPTION:Join us as we kickoff our campaign to re-elect Senator Richard Stuart!\nSenator Richard Stuart’s Campaign Kickoff Flyer
URL:https://staffordgop.com/event/senator-richard-stuarts-campaign-kickoff/
LOCATION:6 Bears & A Goat\, 1140 International Pkwy\, Fredericksburg\, VA\, 22406\, United States
CATEGORIES:Outside Events
ORGANIZER;CN="Senator Richard Stuart":MAILTO:cooper@stuartforsenate.com
END:VEVENT
END:VCALENDAR