BEGIN:VCALENDAR
VERSION:2.0
PRODID:-//Stafford County GOP - ECPv6.15.20//NONSGML v1.0//EN
CALSCALE:GREGORIAN
METHOD:PUBLISH
X-WR-CALNAME:Stafford County GOP
X-ORIGINAL-URL:https://staffordgop.com
X-WR-CALDESC:Events for Stafford County GOP
REFRESH-INTERVAL;VALUE=DURATION:PT1H
X-Robots-Tag:noindex
X-PUBLISHED-TTL:PT1H
BEGIN:VTIMEZONE
TZID:America/Halifax
BEGIN:DAYLIGHT
TZOFFSETFROM:-0400
TZOFFSETTO:-0300
TZNAME:ADT
DTSTART:20210314T060000
END:DAYLIGHT
BEGIN:STANDARD
TZOFFSETFROM:-0300
TZOFFSETTO:-0400
TZNAME:AST
DTSTART:20211107T050000
END:STANDARD
BEGIN:DAYLIGHT
TZOFFSETFROM:-0400
TZOFFSETTO:-0300
TZNAME:ADT
DTSTART:20220313T060000
END:DAYLIGHT
BEGIN:STANDARD
TZOFFSETFROM:-0300
TZOFFSETTO:-0400
TZNAME:AST
DTSTART:20221106T050000
END:STANDARD
BEGIN:DAYLIGHT
TZOFFSETFROM:-0400
TZOFFSETTO:-0300
TZNAME:ADT
DTSTART:20230312T060000
END:DAYLIGHT
BEGIN:STANDARD
TZOFFSETFROM:-0300
TZOFFSETTO:-0400
TZNAME:AST
DTSTART:20231105T050000
END:STANDARD
END:VTIMEZONE
BEGIN:VEVENT
DTSTART;TZID=America/Halifax:20221013T170000
DTEND;TZID=America/Halifax:20221016T210000
DTSTAMP:20260423T183503
CREATED:20221012T095412Z
LAST-MODIFIED:20221012T175830Z
UID:8735-1665680400-1665954000@staffordgop.com
SUMMARY:Stafford County Fair 2022 -  13 to 16 October.
DESCRIPTION:Fair Hours:  Thursday 5pm-10pm\, Friday 5pm-10pm\, Saturday 10am-10pm   Sunday 10 am-9pm  – Kids Derby at noon. \nVOLUNTEERS NEEDED for the Stafford Count Republican Party booth.  CLICK HERE to sign up for a day and time slot.
URL:https://staffordgop.com/event/stafford-county-fair-2022/
LOCATION:University of Mary Washington\, 121 University Boulevard\, Fredericksburg\, VA\, 22406
END:VEVENT
END:VCALENDAR