BEGIN:VCALENDAR
VERSION:2.0
PRODID:-//Stafford County GOP - ECPv6.15.20//NONSGML v1.0//EN
CALSCALE:GREGORIAN
METHOD:PUBLISH
X-WR-CALNAME:Stafford County GOP
X-ORIGINAL-URL:https://staffordgop.com
X-WR-CALDESC:Events for Stafford County GOP
REFRESH-INTERVAL;VALUE=DURATION:PT1H
X-Robots-Tag:noindex
X-PUBLISHED-TTL:PT1H
BEGIN:VTIMEZONE
TZID:America/Halifax
BEGIN:DAYLIGHT
TZOFFSETFROM:-0400
TZOFFSETTO:-0300
TZNAME:ADT
DTSTART:20190310T060000
END:DAYLIGHT
BEGIN:STANDARD
TZOFFSETFROM:-0300
TZOFFSETTO:-0400
TZNAME:AST
DTSTART:20191103T050000
END:STANDARD
BEGIN:DAYLIGHT
TZOFFSETFROM:-0400
TZOFFSETTO:-0300
TZNAME:ADT
DTSTART:20200308T060000
END:DAYLIGHT
BEGIN:STANDARD
TZOFFSETFROM:-0300
TZOFFSETTO:-0400
TZNAME:AST
DTSTART:20201101T050000
END:STANDARD
BEGIN:DAYLIGHT
TZOFFSETFROM:-0400
TZOFFSETTO:-0300
TZNAME:ADT
DTSTART:20210314T060000
END:DAYLIGHT
BEGIN:STANDARD
TZOFFSETFROM:-0300
TZOFFSETTO:-0400
TZNAME:AST
DTSTART:20211107T050000
END:STANDARD
END:VTIMEZONE
BEGIN:VEVENT
DTSTART;TZID=America/Halifax:20201016T080000
DTEND;TZID=America/Halifax:20201018T170000
DTSTAMP:20260420T184839
CREATED:20201010T040816Z
LAST-MODIFIED:20201010T040816Z
UID:7515-1602835200-1603040400@staffordgop.com
SUMMARY:Stafford County Fair
DESCRIPTION:The Stafford County Fair is being held this year – with a shortened schedule – on October 16-18. We will have a booth on site during the event\, which is being held at 9000 Celebrate VA Pkwy. We can always use more volunteers to talk with folks who come by the booth. Come on out and share your support!
URL:https://staffordgop.com/event/stafford-county-fair/
LOCATION:Stafford County Agricultural & Homemaking Fair\, 9000 Celebrate Virginia Parkway\, Stafford\, VA\, 22406\, United States
END:VEVENT
END:VCALENDAR