BEGIN:VCALENDAR
VERSION:2.0
PRODID:-//Stafford County GOP - ECPv6.15.20//NONSGML v1.0//EN
CALSCALE:GREGORIAN
METHOD:PUBLISH
X-WR-CALNAME:Stafford County GOP
X-ORIGINAL-URL:https://staffordgop.com
X-WR-CALDESC:Events for Stafford County GOP
REFRESH-INTERVAL;VALUE=DURATION:PT1H
X-Robots-Tag:noindex
X-PUBLISHED-TTL:PT1H
BEGIN:VTIMEZONE
TZID:America/Halifax
BEGIN:DAYLIGHT
TZOFFSETFROM:-0400
TZOFFSETTO:-0300
TZNAME:ADT
DTSTART:20210314T060000
END:DAYLIGHT
BEGIN:STANDARD
TZOFFSETFROM:-0300
TZOFFSETTO:-0400
TZNAME:AST
DTSTART:20211107T050000
END:STANDARD
BEGIN:DAYLIGHT
TZOFFSETFROM:-0400
TZOFFSETTO:-0300
TZNAME:ADT
DTSTART:20220313T060000
END:DAYLIGHT
BEGIN:STANDARD
TZOFFSETFROM:-0300
TZOFFSETTO:-0400
TZNAME:AST
DTSTART:20221106T050000
END:STANDARD
BEGIN:DAYLIGHT
TZOFFSETFROM:-0400
TZOFFSETTO:-0300
TZNAME:ADT
DTSTART:20230312T060000
END:DAYLIGHT
BEGIN:STANDARD
TZOFFSETFROM:-0300
TZOFFSETTO:-0400
TZNAME:AST
DTSTART:20231105T050000
END:STANDARD
END:VTIMEZONE
BEGIN:VEVENT
DTSTART;TZID=America/Halifax:20220827T093000
DTEND;TZID=America/Halifax:20220827T170000
DTSTAMP:20260422T222850
CREATED:20220813T115813Z
LAST-MODIFIED:20220813T140512Z
UID:8571-1661592600-1661619600@staffordgop.com
SUMMARY:Yesli Vega Campaign HQ Grand Opening
DESCRIPTION: 
URL:https://staffordgop.com/event/yesli-vega-campaign-hq-opening/
LOCATION:Vega Campaign HQ\, 5438 Southpoint Plaza Way\, Fredericksburg\, VA
END:VEVENT
END:VCALENDAR