BEGIN:VCALENDAR
VERSION:2.0
PRODID:-//Stafford County GOP - ECPv6.15.20//NONSGML v1.0//EN
CALSCALE:GREGORIAN
METHOD:PUBLISH
X-WR-CALNAME:Stafford County GOP
X-ORIGINAL-URL:https://staffordgop.com
X-WR-CALDESC:Events for Stafford County GOP
REFRESH-INTERVAL;VALUE=DURATION:PT1H
X-Robots-Tag:noindex
X-PUBLISHED-TTL:PT1H
BEGIN:VTIMEZONE
TZID:America/Halifax
BEGIN:DAYLIGHT
TZOFFSETFROM:-0400
TZOFFSETTO:-0300
TZNAME:ADT
DTSTART:20210314T060000
END:DAYLIGHT
BEGIN:STANDARD
TZOFFSETFROM:-0300
TZOFFSETTO:-0400
TZNAME:AST
DTSTART:20211107T050000
END:STANDARD
BEGIN:DAYLIGHT
TZOFFSETFROM:-0400
TZOFFSETTO:-0300
TZNAME:ADT
DTSTART:20220313T060000
END:DAYLIGHT
BEGIN:STANDARD
TZOFFSETFROM:-0300
TZOFFSETTO:-0400
TZNAME:AST
DTSTART:20221106T050000
END:STANDARD
BEGIN:DAYLIGHT
TZOFFSETFROM:-0400
TZOFFSETTO:-0300
TZNAME:ADT
DTSTART:20230312T060000
END:DAYLIGHT
BEGIN:STANDARD
TZOFFSETFROM:-0300
TZOFFSETTO:-0400
TZNAME:AST
DTSTART:20231105T050000
END:STANDARD
END:VTIMEZONE
BEGIN:VEVENT
DTSTART;TZID=America/Halifax:20220702T093000
DTEND;TZID=America/Halifax:20220702T150000
DTSTAMP:20260422T063324
CREATED:20220630T190200Z
LAST-MODIFIED:20220630T190200Z
UID:8438-1656754200-1656774000@staffordgop.com
SUMMARY:Yesli Vega Door Knocking Launch
DESCRIPTION:For more information\, contact:\nKristen Cannon\n7th District Regional Field Director\nRepublican Party of Virginia\n(804) 519-4411\nKristen@virginia.gop
URL:https://staffordgop.com/event/yesli-vega-door-knocking-launch/
LOCATION:Quantico Gateway\, 18354 Quantico Gateway Drive\, Triangle\, VA\, 22172
ORGANIZER;CN="Republican Party of Virginia":MAILTO:Kristen@virginia.gop
END:VEVENT
END:VCALENDAR