BEGIN:VCALENDAR
VERSION:2.0
PRODID:-//Stafford County GOP - ECPv6.15.20//NONSGML v1.0//EN
CALSCALE:GREGORIAN
METHOD:PUBLISH
X-WR-CALNAME:Stafford County GOP
X-ORIGINAL-URL:https://staffordgop.com
X-WR-CALDESC:Events for Stafford County GOP
REFRESH-INTERVAL;VALUE=DURATION:PT1H
X-Robots-Tag:noindex
X-PUBLISHED-TTL:PT1H
BEGIN:VTIMEZONE
TZID:America/New_York
BEGIN:DAYLIGHT
TZOFFSETFROM:-0500
TZOFFSETTO:-0400
TZNAME:EDT
DTSTART:20240310T070000
END:DAYLIGHT
BEGIN:STANDARD
TZOFFSETFROM:-0400
TZOFFSETTO:-0500
TZNAME:EST
DTSTART:20241103T060000
END:STANDARD
BEGIN:DAYLIGHT
TZOFFSETFROM:-0500
TZOFFSETTO:-0400
TZNAME:EDT
DTSTART:20250309T070000
END:DAYLIGHT
BEGIN:STANDARD
TZOFFSETFROM:-0400
TZOFFSETTO:-0500
TZNAME:EST
DTSTART:20251102T060000
END:STANDARD
BEGIN:DAYLIGHT
TZOFFSETFROM:-0500
TZOFFSETTO:-0400
TZNAME:EDT
DTSTART:20260308T070000
END:DAYLIGHT
BEGIN:STANDARD
TZOFFSETFROM:-0400
TZOFFSETTO:-0500
TZNAME:EST
DTSTART:20261101T060000
END:STANDARD
BEGIN:DAYLIGHT
TZOFFSETFROM:-0500
TZOFFSETTO:-0400
TZNAME:EDT
DTSTART:20270314T070000
END:DAYLIGHT
BEGIN:STANDARD
TZOFFSETFROM:-0400
TZOFFSETTO:-0500
TZNAME:EST
DTSTART:20271107T060000
END:STANDARD
END:VTIMEZONE
BEGIN:VEVENT
DTSTART;TZID=America/New_York:20260304T110000
DTEND;TZID=America/New_York:20260304T120000
DTSTAMP:20260421T071848
CREATED:20260302T234654Z
LAST-MODIFIED:20260302T234654Z
UID:10848-1772622000-1772625600@staffordgop.com
SUMMARY:Call to Action - Stafford County Electoral Board Public Hearing
DESCRIPTION:The Stafford County Electoral Board is conducting a Public Hearing that strangely is not being advertised publicly.  I call on everyone who can get to 124 Old Potomac Church Road\, Suite #205 (Early Voting Location\, General Register’s Office) to come ready to speak against their proposed SUNDAY\, SEVEN DAY early voting and hours (open to 7pm). \nWHO:\nStafford County Electoral Board \nWHAT: \nPublic Hearing \nWHERE:\n124 Old Potomac Church Road\, Suite #205 (Early Voting Location\, General Register’s Office) \nWHEN:  \nWednesday\, March 4\, 2026 @ 11:00 a.m. \nWHY:\nPurpose agenda to vote on extending early voting days to 7 pm and open Sunday voting for Stafford County. \nWHAT CAN YOU DO? \nWe need people\, voters\, Election Officers\, conservatives\, soccer mom’s and dad’s\, to speak up against this.  It was brought up that Josh Cole has 2 constituents who are wanting to have extended  hours for early voting to 7 p.m. and to have the options to be able to vote on Sundays\, because of their work schedule and sports with their kids on Saturday.  This is just an excuse to burden the system further\, generate voter fatigue and give opportunity for more fraud. \nPlease note that  we already have 45 days of early voting for General Elections and 3 weeks of early voting for Special Elections.
URL:https://staffordgop.com/event/call-to-action-stafford-county-electoral-board-public-hearing/
LOCATION:Stafford County Board of Elections – Early Voting\, 124 Old Potomac Church Road Suite #205\, Stafford\, VA\, 22554\, United States
CATEGORIES:Community Events
END:VEVENT
BEGIN:VEVENT
DTSTART;TZID=America/New_York:20251014T183000
DTEND;TZID=America/New_York:20251014T203000
DTSTAMP:20260421T071848
CREATED:20251014T175743Z
LAST-MODIFIED:20251014T175743Z
UID:10737-1760466600-1760473800@staffordgop.com
SUMMARY:National Day of Rememberance for Charlie Kirk
DESCRIPTION:
URL:https://staffordgop.com/event/national-day-of-rememberance-for-charlie-kirk/
LOCATION:Hurkamp Park\, 500 William Street\, Fredericksburg\, VA\, 22401\, United States
CATEGORIES:Community Events
ATTACH;FMTTYPE=image/jpeg:https://staffordgop.com/wp-content/uploads/2025/10/CharlieKirk.jpg
END:VEVENT
BEGIN:VEVENT
DTSTART;TZID=America/New_York:20251009T170000
DTEND;TZID=America/New_York:20251012T190000
DTSTAMP:20260421T071848
CREATED:20250909T175113Z
LAST-MODIFIED:20251008T004431Z
UID:10647-1760029200-1760295600@staffordgop.com
SUMMARY:Stafford County Fair
DESCRIPTION:Join us to help spread the word on the SCRC and our local candidates.\nCheck your email to sign-up to help. \nStafford County Fair Schedule\n\n\n\n\n\n\n\n\n\n\n\nThursday & Friday October 9th – 10th 5pm-10pm\n\n\n\n\n\n\n\nVendors\, Petting Zoo\, PONY rides\, Food – 5pm -10pm\n\n\n\n\n\n\n\n\nCarnival RIDES – 6pm – 10pm\n\n\n\n\n\n\n\n\nSheriff K9 Demonstrations – 6pm – 7:30pm\n\n\n\n\n\n\n\n\nFRIDAY !! LIVE MUSIC ON STAGE Call Gordon to reserve your spot. – 7pm\n\n\n\n\n\n\n\n\n\n\n\n\n\n\nSaturday October 11th Open Noon – 10pm\n\n\n\n\n\n\n\nCarnival Rides and Games – Noon -10 pm\n\n\n\n\n\n\n\n\nVendors\, Food\, Petting Zoo & Pony Rides – Noon -10pm\n\n\n\n\n\n\n\n\nSheriff Drone Display – 2pm -6pm\n\n\n\n\n\n\n\n\nSheriff Swat and Bear Cat Display – 3:30pm- 5:30pm\n\n\n\n\n\n\n\n\nTHE DANCE SPOT PERFORMANCE – 2pm\n\n\n\n\n\n\n\n\nKIDS POWER WHEELS DERBY – 3pm\n\n\n\n\n\n\n\n\nKIDS PEDAL TRACTOR PULL – FOLLOWING DERBY\n\n\n\n\n\n\n\n\nLIVE MUSIC Call Gordon to reserve your spot – 7pm\n\n\n\n\n\n\n\n\n\n\n\n\n\n\nSunday October 12th Noon – 7pm\n\n\n\n\n\n\n\nCarnival Rides. Vendors\, Food\, Petting Zoo & Pony Rides – Noon – 7pm\n\n\n\n\n\n\n\n\nSheriff Traffic Unit Motors Demo – 2pm – 3:30pm\n\n\n\n\n\n\n\n\nKIDS POWER WHEELS DERBY – Noon\n\n\n\n\n\n\n\n\nKIDS PEDAL TRACTOR PULL – Following Derby
URL:https://staffordgop.com/event/stafford-county-fair-3/
LOCATION:Stafford County Agricultural & Homemaking Fair\, 9000 Celebrate Virginia Parkway\, Stafford\, VA\, 22406\, United States
CATEGORIES:Community Events
ATTACH;FMTTYPE=image/jpeg:https://staffordgop.com/wp-content/uploads/2025/09/SC-AG-Fair.jpg
END:VEVENT
BEGIN:VEVENT
DTSTART;TZID=America/New_York:20251007T170000
DTEND;TZID=America/New_York:20251007T190000
DTSTAMP:20260421T071848
CREATED:20250909T174724Z
LAST-MODIFIED:20250909T174724Z
UID:10644-1759856400-1759863600@staffordgop.com
SUMMARY:National Night Out
DESCRIPTION:
URL:https://staffordgop.com/event/national-night-out/
LOCATION:1005 Stafford Marketplace\, 1005 Stafford Marketplace\, Stafford\, VA\, 22556\, United States
CATEGORIES:Community Events
ATTACH;FMTTYPE=image/jpeg:https://staffordgop.com/wp-content/uploads/2025/09/nightout.jpg
END:VEVENT
END:VCALENDAR