BEGIN:VCALENDAR
VERSION:2.0
PRODID:-//Stafford County GOP - ECPv6.15.20//NONSGML v1.0//EN
CALSCALE:GREGORIAN
METHOD:PUBLISH
X-WR-CALNAME:Stafford County GOP
X-ORIGINAL-URL:https://staffordgop.com
X-WR-CALDESC:Events for Stafford County GOP
REFRESH-INTERVAL;VALUE=DURATION:PT1H
X-Robots-Tag:noindex
X-PUBLISHED-TTL:PT1H
BEGIN:VTIMEZONE
TZID:America/Halifax
BEGIN:DAYLIGHT
TZOFFSETFROM:-0400
TZOFFSETTO:-0300
TZNAME:ADT
DTSTART:20200308T060000
END:DAYLIGHT
BEGIN:STANDARD
TZOFFSETFROM:-0300
TZOFFSETTO:-0400
TZNAME:AST
DTSTART:20201101T050000
END:STANDARD
BEGIN:DAYLIGHT
TZOFFSETFROM:-0400
TZOFFSETTO:-0300
TZNAME:ADT
DTSTART:20210314T060000
END:DAYLIGHT
BEGIN:STANDARD
TZOFFSETFROM:-0300
TZOFFSETTO:-0400
TZNAME:AST
DTSTART:20211107T050000
END:STANDARD
BEGIN:DAYLIGHT
TZOFFSETFROM:-0400
TZOFFSETTO:-0300
TZNAME:ADT
DTSTART:20220313T060000
END:DAYLIGHT
BEGIN:STANDARD
TZOFFSETFROM:-0300
TZOFFSETTO:-0400
TZNAME:AST
DTSTART:20221106T050000
END:STANDARD
BEGIN:DAYLIGHT
TZOFFSETFROM:-0400
TZOFFSETTO:-0300
TZNAME:ADT
DTSTART:20230312T060000
END:DAYLIGHT
BEGIN:STANDARD
TZOFFSETFROM:-0300
TZOFFSETTO:-0400
TZNAME:AST
DTSTART:20231105T050000
END:STANDARD
END:VTIMEZONE
BEGIN:VTIMEZONE
TZID:America/New_York
BEGIN:DAYLIGHT
TZOFFSETFROM:-0500
TZOFFSETTO:-0400
TZNAME:EDT
DTSTART:20220313T070000
END:DAYLIGHT
BEGIN:STANDARD
TZOFFSETFROM:-0400
TZOFFSETTO:-0500
TZNAME:EST
DTSTART:20221106T060000
END:STANDARD
BEGIN:DAYLIGHT
TZOFFSETFROM:-0500
TZOFFSETTO:-0400
TZNAME:EDT
DTSTART:20230312T070000
END:DAYLIGHT
BEGIN:STANDARD
TZOFFSETFROM:-0400
TZOFFSETTO:-0500
TZNAME:EST
DTSTART:20231105T060000
END:STANDARD
BEGIN:DAYLIGHT
TZOFFSETFROM:-0500
TZOFFSETTO:-0400
TZNAME:EDT
DTSTART:20240310T070000
END:DAYLIGHT
BEGIN:STANDARD
TZOFFSETFROM:-0400
TZOFFSETTO:-0500
TZNAME:EST
DTSTART:20241103T060000
END:STANDARD
BEGIN:DAYLIGHT
TZOFFSETFROM:-0500
TZOFFSETTO:-0400
TZNAME:EDT
DTSTART:20250309T070000
END:DAYLIGHT
BEGIN:STANDARD
TZOFFSETFROM:-0400
TZOFFSETTO:-0500
TZNAME:EST
DTSTART:20251102T060000
END:STANDARD
BEGIN:DAYLIGHT
TZOFFSETFROM:-0500
TZOFFSETTO:-0400
TZNAME:EDT
DTSTART:20260308T070000
END:DAYLIGHT
BEGIN:STANDARD
TZOFFSETFROM:-0400
TZOFFSETTO:-0500
TZNAME:EST
DTSTART:20261101T060000
END:STANDARD
BEGIN:DAYLIGHT
TZOFFSETFROM:-0500
TZOFFSETTO:-0400
TZNAME:EDT
DTSTART:20270314T070000
END:DAYLIGHT
BEGIN:STANDARD
TZOFFSETFROM:-0400
TZOFFSETTO:-0500
TZNAME:EST
DTSTART:20271107T060000
END:STANDARD
END:VTIMEZONE
BEGIN:VEVENT
DTSTART;TZID=America/Halifax:20211030T090000
DTEND;TZID=America/Halifax:20211030T170000
DTSTAMP:20260423T163033
CREATED:20211028T185413Z
LAST-MODIFIED:20211028T185413Z
UID:7965-1635584400-1635613200@staffordgop.com
SUMMARY:Halloween Costume Showcase
DESCRIPTION:Join us October 30 at the Stafford Government Center 9 am – 5 pm
URL:https://staffordgop.com/event/halloween-costume-showcase/
LOCATION:Stafford County Government Center\, 1300 Courthouse Road\, Stafford\, VA\, United States
CATEGORIES:Elections
END:VEVENT
BEGIN:VEVENT
DTSTART;TZID=America/Halifax:20211030T110000
DTEND;TZID=America/Halifax:20211030T170000
DTSTAMP:20260423T163033
CREATED:20211022T204229Z
LAST-MODIFIED:20211022T204229Z
UID:7955-1635591600-1635613200@staffordgop.com
SUMMARY:7th Annual Harvest Fest
DESCRIPTION:The WIN WITH GLENN BUS TOUR is coming to the 7th Annual Harvest Fest
URL:https://staffordgop.com/event/7th-annual-harvest-fest/
LOCATION:Shannon Airport\, 3380 Shannon Airport Circle\, Fredericksburg\, VA\, 22408\, United States
CATEGORIES:Elections,Outside Events
END:VEVENT
BEGIN:VEVENT
DTSTART;TZID=America/Halifax:20220501T180000
DTEND;TZID=America/Halifax:20220501T210000
DTSTAMP:20260423T163033
CREATED:20220422T171856Z
LAST-MODIFIED:20220422T171856Z
UID:8171-1651428000-1651438800@staffordgop.com
SUMMARY:Fundraiser to Support Crystal Vanuch for Congress at Fred Nats Game
DESCRIPTION:Come show your support for Crystal Vanuch for Congress while watching the Fred Nats in the private Sky Terrace Suite.\n\n\n\n\n\nAbout this event\n\n\nPlease join us in the private Sky Terrace suite that overlooks 1st base during the Fred Nats May 1st game while they play the Charleston River Dogs. \n\nTicket includes private Sky Terrace Access\n\n\nFree Buffet Dinner and non-alcoholic drinks\n\n\nPrivate Cash Bar\n\nThis will be an amazing opportunity to support Crystal’s Campaign and spend time with fellow supporters as we all watch some good old American Baseball. \n**May 1st is Military\, Veteran\, and First responder appreciation day at the stadium so make sure to share with all your friends who support Crystal. Tickets are limited and will sell quickly on a first come first serve basis. \nAfter payment is received a ticket will be sent out prior to the event to the email that you provide. For any questions\, please email TeamVanuch@CrystalVanuch.com \nPaid for and Authorized by Crystal Vanuch for Congress
URL:https://staffordgop.com/event/fundraiser-to-support-crystal-vanuch-for-congress-at-fred-nats-game/
LOCATION:Fredericksburg Nationals Ballpark\, 42 Jackie Robinson Way\, Fredericksburg\, VA\, 22401\, United States
CATEGORIES:Elections,Outside Events
END:VEVENT
BEGIN:VEVENT
DTSTART;TZID=America/New_York:20230830T173000
DTEND;TZID=America/New_York:20230830T173000
DTSTAMP:20260423T163033
CREATED:20230824T182904Z
LAST-MODIFIED:20230824T182918Z
UID:9761-1693416600-1693416600@staffordgop.com
SUMMARY:Lee Peters for Virginia Delegate Fundraising Reception with Attorney General Jason Miyares 
DESCRIPTION:August 30th\, is our reception with Attorney General Jason Miyares\, hosted by former Stafford Commonwealth’s Attorney Daniel Chichester at his historic property. \nThe Attorney General knows that Lee Peters’ experience in law enforcement will make him an effective legislator on the critical issues of public safety\, and we’re excited to have him back in Fredericksburg to show his support in one of Virginia’s most competitive swing races! \n \nFundraising Reception with Attorney General Jason Miyares \nWhen: Wednesday\, August 30th\, 5:30-8:00pm\nWhere: 559 Cambridge St\, Fredericksburg\, VA 22405 \nLight hors d’ouvres and refreshments included with ticket. RSVP and purchase your ticket at PetersforVirginia.com/August30. To join the Host Committee\, please give me a call at (269) 501-2977. \n 
URL:https://staffordgop.com/event/lee-peters-for-virginia-delegate-fundraising-reception-with-attorney-general-jason-miyares/
LOCATION:559 Cambridge St\, 559 Cambridge St\, Fredericksburg\, 22405\, United States
CATEGORIES:Elections,Outside Events
ATTACH;FMTTYPE=image/jpeg:https://staffordgop.com/wp-content/uploads/2023/08/Peters-Miyares.jpg
ORGANIZER;CN="Friends of Lee Peters III":MAILTO:team@petersforvirginia.com
END:VEVENT
BEGIN:VEVENT
DTSTART;VALUE=DATE:20230922
DTEND;VALUE=DATE:20230923
DTSTAMP:20260423T163033
CREATED:20230908T005514Z
LAST-MODIFIED:20230908T005514Z
UID:9784-1695340800-1695427199@staffordgop.com
SUMMARY:Early Voting Begins
DESCRIPTION:Help Republicans win in November by casting your ballot early in-person or signing up to join the permanent absentee list at SecureYourVoteVirginia.com.
URL:https://staffordgop.com/event/early-voting-begins-2/
LOCATION:VA
CATEGORIES:Elections
END:VEVENT
BEGIN:VEVENT
DTSTART;TZID=America/New_York:20240618T060000
DTEND;TZID=America/New_York:20240618T190000
DTSTAMP:20260423T163033
CREATED:20240615T213346Z
LAST-MODIFIED:20240615T213424Z
UID:10117-1718690400-1718737200@staffordgop.com
SUMMARY:2024 Republican Primary Election Day
DESCRIPTION:Polling places locations can be found HERE.
URL:https://staffordgop.com/event/2024-republican-primary-election-day/
LOCATION:VA
CATEGORIES:Elections
ATTACH;FMTTYPE=image/jpeg:https://staffordgop.com/wp-content/uploads/2023/05/Vote-Button-1.jpg
END:VEVENT
BEGIN:VEVENT
DTSTART;TZID=America/New_York:20250602T183000
DTEND;TZID=America/New_York:20250602T200000
DTSTAMP:20260423T163033
CREATED:20250530T114411Z
LAST-MODIFIED:20250530T114411Z
UID:10502-1748889000-1748894400@staffordgop.com
SUMMARY:2025 Candidate Forum
DESCRIPTION:Join us June 2\, 2025 at the Falmouth Fire Department for the 2025 Candidate Forum. \n6:30 pm Social | 7:00 pm Forum Starts
URL:https://staffordgop.com/event/2025-candidate-forum/
LOCATION:Falmouth Volunteer Fire Department\, 250 Butler Road\, Stafford\, VA\, 22405\, United States
CATEGORIES:Elections
ATTACH;FMTTYPE=image/jpeg:https://staffordgop.com/wp-content/uploads/2025/05/june22025candidateforum.jpg
END:VEVENT
BEGIN:VEVENT
DTSTART;TZID=America/New_York:20251030T100000
DTEND;TZID=America/New_York:20251101T103000
DTSTAMP:20260423T163033
CREATED:20251014T180334Z
LAST-MODIFIED:20251030T124749Z
UID:10769-1761818400-1761993000@staffordgop.com
SUMMARY:VA Victory for Stafford County
DESCRIPTION:
URL:https://staffordgop.com/event/va-victory-for-stafford-county/
LOCATION:Early Voting\, 124 Old Potomac Church Rd\, Suite 205\, Stafford\, VA\, 22554\, United States
CATEGORIES:Elections
ATTACH;FMTTYPE=image/jpeg:https://staffordgop.com/wp-content/uploads/2025/10/Stafford-Volunteers2.jpg
END:VEVENT
BEGIN:VEVENT
DTSTART;TZID=America/New_York:20251104T060000
DTEND;TZID=America/New_York:20251104T190000
DTSTAMP:20260423T163033
CREATED:20251015T175500Z
LAST-MODIFIED:20251021T192015Z
UID:10653-1762236000-1762282800@staffordgop.com
SUMMARY:Election Day
DESCRIPTION:If you haven’t voted yet\, vote today. \nNot sure where to vote? https://www.elections.virginia.gov/citizen-portal/index.html
URL:https://staffordgop.com/event/election-day-2/
LOCATION:VA
CATEGORIES:Elections
END:VEVENT
BEGIN:VEVENT
DTSTART;TZID=America/New_York:20260414T083000
DTEND;TZID=America/New_York:20260418T163000
DTSTAMP:20260423T163033
CREATED:20260414T000104Z
LAST-MODIFIED:20260414T020402Z
UID:10880-1776155400-1776529800@staffordgop.com
SUMMARY:Early Voting - Vote No
DESCRIPTION:
URL:https://staffordgop.com/event/early-voting-vote-no/
LOCATION:Stafford County Board of Elections – Early Voting\, 124 Old Potomac Church Road Suite #205\, Stafford\, VA\, 22554\, United States
CATEGORIES:Elections
END:VEVENT
BEGIN:VEVENT
DTSTART;TZID=America/New_York:20260418T090000
DTEND;TZID=America/New_York:20260418T170000
DTSTAMP:20260423T163033
CREATED:20260414T003008Z
LAST-MODIFIED:20260414T020426Z
UID:10883-1776502800-1776531600@staffordgop.com
SUMMARY:Early Voting - Vote No
DESCRIPTION:
URL:https://staffordgop.com/event/early-voting-vote-no-2/
LOCATION:Stafford County Board of Elections – Early Voting\, 124 Old Potomac Church Road Suite #205\, Stafford\, VA\, 22554\, United States
CATEGORIES:Elections
END:VEVENT
BEGIN:VEVENT
DTSTART;TZID=America/New_York:20260421T060000
DTEND;TZID=America/New_York:20260421T190000
DTSTAMP:20260423T163033
CREATED:20260414T015701Z
LAST-MODIFIED:20260414T015854Z
UID:10876-1776751200-1776798000@staffordgop.com
SUMMARY:Election Day - Vote No
DESCRIPTION:If you haven’t voted yet\, vote today. \n \nNot sure where to vote? https://www.elections.virginia.gov/citizen-portal/index.html
URL:https://staffordgop.com/event/election-day-vote-no/
LOCATION:VA
CATEGORIES:Elections
END:VEVENT
END:VCALENDAR